Workbook
Name \0: '[1]PNT-QUOT-#3'!#REF!
Name \d: '[2]??-BLDG'!#REF!
Name \e: '[2]??-BLDG'!#REF!
Name \f: '[2]??-BLDG'!#REF!
Name \g: '[2]??-BLDG'!#REF!
Name \h: '[2]??-BLDG'!#REF!
Name \i: '[2]??-BLDG'!#REF!
Name \j: '[2]??-BLDG'!#REF!
Name \k: '[2]??-BLDG'!#REF!
Name \l: '[2]??-BLDG'!#REF!
Name \m: '[2]??-BLDG'!#REF!
Name \n: '[2]??-BLDG'!#REF!
Name \o: '[2]??-BLDG'!#REF!
Name \z: '[1]COAT&WRAP-QIOT-#3'!#REF!
Name _1: #N/A
Name _1000A01: #N/A
Name _2: #N/A
Name _A65700: '[3]MTO REV.2(ARMOR)'!#REF!
Name _A65800: '[3]MTO REV.2(ARMOR)'!#REF!
Name _A66000: '[3]MTO REV.2(ARMOR)'!#REF!
Name _A67000: '[3]MTO REV.2(ARMOR)'!#REF!
Name _A68000: '[3]MTO REV.2(ARMOR)'!#REF!
Name _A70000: '[3]MTO REV.2(ARMOR)'!#REF!
Name _A75000: '[3]MTO REV.2(ARMOR)'!#REF!
Name _A85000: '[3]MTO REV.2(ARMOR)'!#REF!
Name _CON1: #REF!
Name _CON2: #REF!
Name _NET2: #REF!
Name A: '[1]PNT-QUOT-#3'!#REF!
Name A01_: #N/A
Name A01AC: #N/A
Name A01CAT: #N/A
Name A01CODE: #N/A
Name A01DATA: #N/A
Name A01MI: #N/A
Name A01TO: #N/A
Name A60000.: #REF!
Name AA: #REF!
Name AAA: '[4]MTL$-INTER'!#REF!
Name All_Item: #REF!
Name ALPIN: #N/A
Name ALPJYOU: #N/A
Name ALPTOI: #N/A
Name B: '[1]PNT-QUOT-#3'!#REF!
Name BB: #REF!
Name BOQ: #REF!
Name BVCISUMMARY: #REF!
Name CABLE2: '[5]MTO REV.0'!$A$1:$Q$570
Name Category_All: #REF!
Name CATIN: #N/A
Name CATJYOU: #N/A
Name CATREC: #N/A
Name CATSYU: #N/A
Name COAT: '[1]PNT-QUOT-#3'!#REF!
Name COMMON: #REF!
Name CON_EQP_COS: #REF!
Name CON_EQP_COST: #REF!
Name CONST_EQ: #REF!
Name COVER: #REF!
Name CRITINST: #REF!

Sheet Hướng dẫn
A1: Quy trình nhập điểm Tổng kết Học phần TCCN
A2: STT | B2: Bảng tính thao tác | C2: Công việc thực hiện
A3: 1 | B3: Vào bảng tính DANH SÁCH LỚP | C3: Sort theo tên lớp, sau đó chọn toàn bộ MSHS (mã số học sinh) của lớp, nhấn phím Ctrl-C để chép mã số SV
A4: 2 | B4: Đối với SV theo danh sách lớp của Phòng TTGD-CTSV: Vào bảng tính LT va TH TCCN | C4: Chép MSHS vào cột B tương ứng của bảng điểm học phần (Họ và tên học sinh sẽ được truyền vào theo MSHS, cột số thứ tự và tên lớp điền tự động).
C5: Nhập tên học phần; số ĐVHT; Tên của Giảng viên (các ô có nền tương ứng).
C6: Ghi chú: Nhập đúng tên học phần, số đơn vị học trình theo lớp trong bảng tính TÊN HỌC PHẦN
C7: Nhập các điểm thành phần theo từng cột điểm tương ứng
C8: Lưu ý 2: Khi muốn in bảng điểm học phần, nên bỏ phần màu nền.
C9: Lưu ý 3: Đối với SV bảo lưu chỉ cần nhập điểm bảo lưu vào ô Điểm bảo lưu của từng bảng điểm học phần. Các cột còn lại để trống.
A10: 3 | B10: Để thống nhất trong việc quản lý điểm số của HSSV trong toàn trường, sau khi hoàn thành bảng tính, xin Quý Thầy Cô lưu lại file theo định dạng: tenlop_tenhocphan_HK1_NH15-16 và gởi bằng mail cho GVCN, Khoa và Phòng TS-Đào tạo-GTVL (kqht.lytutrong@gmail.com)
B11: Nếu Quý Thầy Cô có vướng mắc gì, xin liên hệ trực tiếp với Phòng TS-Đào tạo-GTVL

Sheet TÊN HỌC PHẦN 15TCCN
A1: QUI ĐỊNH SỐ ĐƠN VỊ HỌC TRÌNH VÀ SỐ CỘT ĐIỂM KIỂM TRA THƯỜNG XUYÊN ; ĐỊNH KỲ (HỆ SỐ 1 & 2) TỐI THIỂU CỦA HỌC KỲ 1 / 2015 - 2016 Bậc đào tạo : Trung cấp Chuyên nghiệp - Khóa 2015 (9+3)
A2: TT | B2: LỚP | C2: TÊN HỌC PHẦN | D2: TỔNG ĐƠN VỊ HỌC TRÌNH | E2: SỐ ĐƠN VỊ HỌC TRÌNH | G2: Số cột điểm KT TX tối thiểu | H2: Số cột điểm KT ĐK tối thiểu | I2: GHI CHÚ
E3: Lý thuyết | F3: Thực hành
A4: 1 | B4: 15 TC - Đ | C4: TOÁN 1 | D4: =E4+F4 -> 6 | E4: 6 | G4: 1 | H4: 2
C5: VẬT LÝ 1 | D5: =E5+F5 -> 4 | E5: 4 | G5: 1 | H5: 2
C6: HÓA HỌC 1 | D6: =E6+F6 -> 4 | E6: 4 | G6: 1 | H6: 2
C7: NGỮ VĂN 1 | D7: =E7+F7 -> 4 | E7: 4 | G7: 1 | H7: 2
C8: ANH VĂN 1 | D8: =E8+F8 -> 4 | E8: 4 | G8: 1 | H8: 2
C9: GIÁO DỤC THỂ CHẤT 1 | D9: =E9+F9 -> 1 | E9: 1 | G9: 1 | H9: 1
C10: KHÍ CỤ ĐIỆN | D10: =E10+F10 -> 2 | E10: 2 | G10: 1 | H10: 1
C11: AN TOAØN ĐIỆN | D11: =E11+F11 -> 2 | E11: 2 | G11: 1 | H11: 1
C12: TIN HỌC CƠ BẢN | D12: =E12+F12 -> 4 | E12: 4 | G12: 1 | H12: 2
A13: 2 | B13: 15 TC-NL | C13: TOÁN 1 | D13: =E13+F13 -> 6 | E13: 6 | G13: 1 | H13: 2
C14: VẬT LÝ 1 | D14: =E14+F14 -> 4 | E14: 4 | G14: 1 | H14: 2
C15: HÓA HỌC 1 | D15: =E15+F15 -> 4 | E15: 4 | G15: 1 | H15: 2
C16: NGỮ VĂN 1 | D16: =E16+F16 -> 4 | E16: 4 | G16: 1 | H16: 2
C17: ANH VĂN 1 | D17: =E17+F17 -> 4 | E17: 4 | G17: 1 | H17: 2
C18: GIÁO DỤC THỂ CHẤT 1 | D18: =E18+F18 -> 1 | E18: 1 | G18: 1 | H18: 1
C19: AN TOÀN VÀ MÔI TRƯỜNG CÔNG NGHIỆP | D19: =E19+F19 -> 2 | E19: 2 | G19: 1 | H19: 1
C20: VẼ KỸ THUẬT | D20: =E20+F20 -> 2 | E20: 2 | G20: 1 | H20: 1
C21: TIN HỌC CƠ BẢN | D21: =E21+F21 -> 4 | E21: 4 | G21: 1 | H21: 2
C22: THỰC TẬP NGUỘI | D22: =E22+F22 -> 1 | F22: 1 | G22: 1 | H22: 1
C23: THỰC TẬP HÀN | D23: =E23+F23 -> 1 | F23: 1 | G23: 1 | H23: 1
A24: 3 | B24: 15 TC - Ô | C24: TOÁN 1 | D24: =E24+F24 -> 6 | E24: 6 | G24: 1 | H24: 2
C25: VẬT LÝ 1 | D25: =E25+F25 -> 4 | E25: 4 | G25: 1 | H25: 2
C26: HÓA HỌC 1 | D26: =E26+F26 -> 4 | E26: 4 | G26: 1 | H26: 2
C27: NGỮ VĂN 1 | D27: =E27+F27 -> 4 | E27: 4 | G27: 1 | H27: 2
C28: ANH VĂN 1 | D28: =E28+F28 -> 4 | E28: 4 | G28: 1 | H28: 2
C29: GIÁO DỤC THỂ CHẤT 1 | D29: =E29+F29 -> 1 | E29: 1 | G29: 1 | H29: 1
C30: KỸ NĂNG GIAO TIẾP | D30: =E30+F30 -> 2 | E30: 2 | G30: 1 | H30: 1
C31: AN TOAØN VAØ MOÂI TRƯỜNG CÔNG NGHIỆP | D31: =E31+F31 -> 2 | E31: 2 | G31: 1 | H31: 1
C32: TIN HỌC CƠ BẢN | D32: =E32+F32 -> 4 | E32: 4 | G32: 1 | H32: 2
A33: 4 | B33: 15 TC - QTM | C33: TOÁN 1 | D33: =E33+F33 -> 6 | E33: 6 | G33: 1 | H33: 2
C34: VẬT LÝ 1 | D34: =E34+F34 -> 4 | E34: 4 | G34: 1 | H34: 2
C35: HÓA HỌC 1 | D35: =E35+F35 -> 4 | E35: 4 | G35: 1 | H35: 2
C36: NGỮ VĂN 1 | D36: =E36+F36 -> 4 | E36: 4 | G36: 1 | H36: 2
C37: ANH VĂN 1 | D37: =E37+F37 -> 4 | E37: 4 | G37: 1 | H37: 2
C38: GIÁO DỤC THỂ CHẤT 1 | D38: =E38+F38 -> 1 | E38: 1 | G38: 1 | H38: 1
C39: TIN HỌC VĂN PHÒNG | D39: =E39+F39 -> 4 | E39: 3 | F39: 1 | G39: 1 | H39: 2

Sheet DANH SÁCH LỚP
A1: STT | B1: MSHS | C1: Họ | D1: Tên | E1: Ngày sinh | F1: Lớp | G1: Phái | H1: Hệ | I1: DANH SÁCH DOWN TỪ PM NGÀY 9/12/2015 | J1: =MAX(A:A) -> 51
A2: 1 | B2: 15000936 | C2: Trần Tuấn | D2: Cường | E2: 29/01/2000 | F2: 15TC-Đ | G2: Nam
A3: 2 | B3: 15001595 | C3: Châu Gia | D3: Đạt | E3: 12/02/2000 | F3: 15TC-Đ | G3: Nam
A4: 3 | B4: 15002629 | C4: Lý Tấn | D4: Đạt | E4: 27/04/1994 | F4: 15TC-Đ | G4: Nam
A5: 4 | B5: 15000183 | C5: Nguyễn Văn | D5: Dỏi | E5: 10/04/2000 | F5: 15TC-Đ | G5: Nam
A6: 5 | B6: 15003401 | C6: Hồ Minh | D6: Đức | E6: 25/02/2000 | F6: 15TC-Đ | G6: Nam
A7: 6 | B7: 15000386 | C7: Nguyễn Hùng | D7: Dũng | E7: 06/05/2000 | F7: 15TC-Đ | G7: Nam
A8: 7 | B8: 15001615 | C8: Trần Phi | D8: Hải | E8: 02/09/2000 | F8: 15TC-Đ | G8: Nam
A9: 8 | B9: 15000313 | C9: Phạm Thanh | D9: Hiền | E9: 20/10/2000 | F9: 15TC-Đ | G9: Nam
A10: 9 | B10: 15002007 | C10: Nguyễn Trung | D10: Hiếu | E10: 23/12/2000 | F10: 15TC-Đ | G10: Nam
A11: 10 | B11: 15000640 | C11: Nguyễn Văn | D11: Hóa | E11: 5/9/1999 | F11: 15TC-Đ | G11: Nam
A12: 11 | B12: 15000288 | C12: Nguyễn Đỗ Nhật | D12: Huy | E12: 26/10/2000 | F12: 15TC-Đ | G12: Nam
A13: 12 | B13: 15000189 | C13: Nguyễn Quang | D13: Huy | E13: 11/09/1998 | F13: 15TC-Đ | G13: Nam
... A152: 42 | B152: 15000169 | C152: Huỳnh Cẩm | D152: Vân | E152: 18/11/2000 | F152: 15TC-QTM | G152: Nữ

Sheet LT TCCN
A1: UBND THÀNH PHỐ HỒ CHÍ MINH | F1: CỘNG HÒA XÃ HỘI CHỦ NGHĨA VIỆT NAM
A2: TRƯỜNG CAO ĐẲNG KỸ THUẬT LÝ TỰ TRỌNG TP. HỒ CHÍ MINH | F2: Độc lập – Tự do – Hạnh phúc
A3: ‾‾‾‾‾‾‾‾‾‾‾‾‾‾‾‾‾‾‾‾‾‾‾‾‾‾‾‾‾‾‾‾‾‾‾‾‾‾‾‾
A4: BẢNG ĐIỂM HỌC PHẦN LÝ THUYẾT
A5: =IF(OR(B12="",C6="",J6="",I120=""),"Số liệu chỉ hiển thị khi thông tin Tên HP, số ĐVHT, Tên Giảng viên đã được điền đầy đủ","")
B6: HỌC PHẦN: | C6: Vật lí 1 | H6: Số ĐVHT: | J6: 4 | K6: Lớp: | L6: =IF(ISNA(VLOOKUP($B12,'DANH SÁCH LỚP'!$B$2:$F$695,5,FALSE))=TRUE,"",VLOOKUP($B12,'DANH SÁCH LỚP'!$B$2:$F$695,5,FALSE)) -> 15TC-Đ
C7: HỌC KỲ: | D7: I | F7: NĂM HỌC: 2015 - 2016 | L7: Số tiết vắng tính theo 1 ĐVHT = 15 tiết
A8: TT | B8: MSHS | C8: Họ tên học sinh | E8: Điểm bảo lưu | F8: Điểm kiểm tra | L8: Điểm TB | M8: Số tiết đã vắng | N8: Xét điều kiện dự thi | O8: Điểm Thi KTHP | P8: Điểm HP | Q8: XL lần I | R8: Đánh Giá HP
F10: Thường xuyên Hệ số 1 | I10: Định kỳ Hệ số 2
A12: =IF(B12="","",SUBTOTAL(3,$B$12:B12)) -> 1 | B12: 15000936 | C12: =IF(B12="","",IF(ISNA(VLOOKUP($B12,'DANH SÁCH LỚP'!$B$2:$D$695,2,FALSE))=TRUE,"",VLOOKUP($B12,'DANH SÁCH LỚP'!$B$2:$D$695,2,FALSE))) -> Trần Tuấn | D12: =IF(C12="","",IF(ISNA(VLOOKUP($B12,'DANH SÁCH LỚP'!$B$2:$D$695,3,FALSE))=TRUE,"",VLOOKUP($B12,'DANH SÁCH LỚP'!$B$2:$D$695,3,FALSE))) -> Cường | F12: 7 | I12: 7 | J12: 5 | L12: =IF(OR(B12="",$C$6="",$J$6="",$I$120=""),"",IF(ISNUMBER(E12)=TRUE,"",IF((COUNT(F12:K12))=0,0,ROUND((SUM(F12:H12)+2*SUM(I12:K12))/(COUNT(F12:H12)+2*COUNT(I12:K12)),1)))) -> 6.2 | M12: 2 | N12: =IF(OR(B12="",$C$6="",$J$6="",$I$120=""),"",IF(OR(L12<3,M12/($J$6*15)>0.2),"Cấm thi","")) | O12: 3.5 | P12: =IF(OR(B12="",$C$6="",$J$6="",$I$120=""),"",IF(ISNUMBER(E12)=TRUE,E12,ROUND((L12*0.4+O12*0.6),1))) -> 4.6 | Q12: =IF(B12="","",IF(P12="","KXL",IF(P12<4,"Kém",IF(P12<5,"Yếu",IF(P12<6,"TB",IF(P12<7,"TBK",IF(P12<8,"Khá",IF(P12<9,"Giỏi","XS")))))))) -> Yếu | R12: =IF(OR(B12="",$C$6="",$J$6="",$I$120=""),"",IF(AND(O12>=3,P12>=5),"ĐẠT","KĐẠT")) -> KĐẠT
A13: =IF(B13="","",SUBTOTAL(3,$B$12:B13)) -> 2 | B13: 15001595 | C13: =IF(B13="","",IF(ISNA(VLOOKUP($B13,'DANH SÁCH LỚP'!$B$2:$D$695,2,FALSE))=TRUE,"",VLOOKUP($B13,'DANH SÁCH LỚP'!$B$2:$D$695,2,FALSE))) -> Châu Gia | D13: =IF(C13="","",IF(ISNA(VLOOKUP($B13,'DANH SÁCH LỚP'!$B$2:$D$695,3,FALSE))=TRUE,"",VLOOKUP($B13,'DANH SÁCH LỚP'!$B$2:$D$695,3,FALSE))) -> Đạt | F13: 5 | I13: 4 | J13: 5 | L13: =IF(OR(B13="",$C$6="",$J$6="",$I$120=""),"",IF(ISNUMBER(E13)=TRUE,"",IF((COUNT(F13:K13))=0,0,ROUND((SUM(F13:H13)+2*SUM(I13:K13))/(COUNT(F13:H13)+2*COUNT(I13:K13)),1)))) -> 4.6 | M13: 44 | N13: =IF(OR(B13="",$C$6="",$J$6="",$I$120=""),"",IF(OR(L13<3,M13/($J$6*15)>0.2),"Cấm thi","")) -> Cấm thi | O13: 0 | P13: =IF(OR(B13="",$C$6="",$J$6="",$I$120=""),"",IF(ISNUMBER(E13)=TRUE,E13,ROUND((L13*0.4+O13*0.6),1))) -> 1.8 | Q13: =IF(B13="","",IF(P13="","KXL",IF(P13<4,"Kém",IF(P13<5,"Yếu",IF(P13<6,"TB",IF(P13<7,"TBK",IF(P13<8,"Khá",IF(P13<9,"Giỏi","XS")))))))) -> Kém | R13: =IF(OR(B13="",$C$6="",$J$6="",$I$120=""),"",IF(AND(O13>=3,P13>=5),"ĐẠT","KĐẠT")) -> KĐẠT
A14: =IF(B14="","",SUBTOTAL(3,$B$12:B14)) -> 3 | B14: 15002629 | C14: =IF(B14="","",IF(ISNA(VLOOKUP($B14,'DANH SÁCH LỚP'!$B$2:$D$695,2,FALSE))=TRUE,"",VLOOKUP($B14,'DANH SÁCH LỚP'!$B$2:$D$695,2,FALSE))) -> Lý Tấn | D14: =IF(C14="","",IF(ISNA(VLOOKUP($B14,'DANH SÁCH LỚP'!$B$2:$D$695,3,FALSE))=TRUE,"",VLOOKUP($B14,'DANH SÁCH LỚP'!$B$2:$D$695,3,FALSE))) -> Đạt | F14: 8 | I14: 10 | J14: 7 | L14: =IF(OR(B14="",$C$6="",$J$6="",$I$120=""),"",IF(ISNUMBER(E14)=TRUE,"",IF((COUNT(F14:K14))=0,0,ROUND((SUM(F14:H14)+2*SUM(I14:K14))/(COUNT(F14:H14)+2*COUNT(I14:K14)),1)))) -> 8.4 | M14: 4 | N14: =IF(OR(B14="",$C$6="",$J$6="",$I$120=""),"",IF(OR(L14<3,M14/($J$6*15)>0.2),"Cấm thi","")) | O14: 5.3 | P14: =IF(OR(B14="",$C$6="",$J$6="",$I$120=""),"",IF(ISNUMBER(E14)=TRUE,E14,ROUND((L14*0.4+O14*0.6),1))) -> 6.5 | Q14: =IF(B14="","",IF(P14="","KXL",IF(P14<4,"Kém",IF(P14<5,"Yếu",IF(P14<6,"TB",IF(P14<7,"TBK",IF(P14<8,"Khá",IF(P14<9,"Giỏi","XS")))))))) -> TBK | R14: =IF(OR(B14="",$C$6="",$J$6="",$I$120=""),"",IF(AND(O14>=3,P14>=5),"ĐẠT","KĐẠT")) -> ĐẠT
A15: =IF(B15="","",SUBTOTAL(3,$B$12:B15)) -> 4 | B15: 15000183 | C15: =IF(B15="","",IF(ISNA(VLOOKUP($B15,'DANH SÁCH LỚP'!$B$2:$D$695,2,FALSE))=TRUE,"",VLOOKUP($B15,'DANH SÁCH LỚP'!$B$2:$D$695,2,FALSE))) -> Nguyễn Văn | D15: =IF(C15="","",IF(ISNA(VLOOKUP($B15,'DANH SÁCH LỚP'!$B$2:$D$695,3,FALSE))=TRUE,"",VLOOKUP($B15,'DANH SÁCH LỚP'!$B$2:$D$695,3,FALSE))) -> Dỏi | F15: 7 | I15: 7 | J15: 7 | L15: =IF(OR(B15="",$C$6="",$J$6="",$I$120=""),"",IF(ISNUMBER(E15)=TRUE,"",IF((COUNT(F15:K15))=0,0,ROUND((SUM(F15:H15)+2*SUM(I15:K15))/(COUNT(F15:H15)+2*COUNT(I15:K15)),1)))) -> 7 | M15: 8 | N15: =IF(OR(B15="",$C$6="",$J$6="",$I$120=""),"",IF(OR(L15<3,M15/($J$6*15)>0.2),"Cấm thi","")) | O15: 5 | P15: =IF(OR(B15="",$C$6="",$J$6="",$I$120=""),"",IF(ISNUMBER(E15)=TRUE,E15,ROUND((L15*0.4+O15*0.6),1))) -> 5.8 | Q15: =IF(B15="","",IF(P15="","KXL",IF(P15<4,"Kém",IF(P15<5,"Yếu",IF(P15<6,"TB",IF(P15<7,"TBK",IF(P15<8,"Khá",IF(P15<9,"Giỏi","XS")))))))) -> TB | R15: =IF(OR(B15="",$C$6="",$J$6="",$I$120=""),"",IF(AND(O15>=3,P15>=5),"ĐẠT","KĐẠT")) -> ĐẠT
A16: =IF(B16="","",SUBTOTAL(3,$B$12:B16)) -> 5 | B16: 15003401 | C16: =IF(B16="","",IF(ISNA(VLOOKUP($B16,'DANH SÁCH LỚP'!$B$2:$D$695,2,FALSE))=TRUE,"",VLOOKUP($B16,'DANH SÁCH LỚP'!$B$2:$D$695,2,FALSE))) -> Hồ Minh | D16: =IF(C16="","",IF(ISNA(VLOOKUP($B16,'DANH SÁCH LỚP'!$B$2:$D$695,3,FALSE))=TRUE,"",VLOOKUP($B16,'DANH SÁCH LỚP'!$B$2:$D$695,3,FALSE))) -> Đức | F16: 7 | I16: 9 | J16: 8 | L16: =IF(OR(B16="",$C$6="",$J$6="",$I$120=""),"",IF(ISNUMBER(E16)=TRUE,"",IF((COUNT(F16:K16))=0,0,ROUND((SUM(F16:H16)+2*SUM(I16:K16))/(COUNT(F16:H16)+2*COUNT(I16:K16)),1)))) -> 8.2 | M16: 0 | N16: =IF(OR(B16="",$C$6="",$J$6="",$I$120=""),"",IF(OR(L16<3,M16/($J$6*15)>0.2),"Cấm thi","")) | O16: 5 | P16: =IF(OR(B16="",$C$6="",$J$6="",$I$120=""),"",IF(ISNUMBER(E16)=TRUE,E16,ROUND((L16*0.4+O16*0.6),1))) -> 6.3 | Q16: =IF(B16="","",IF(P16="","KXL",IF(P16<4,"Kém",IF(P16<5,"Yếu",IF(P16<6,"TB",IF(P16<7,"TBK",IF(P16<8,"Khá",IF(P16<9,"Giỏi","XS")))))))) -> TBK | R16: =IF(OR(B16="",$C$6="",$J$6="",$I$120=""),"",IF(AND(O16>=3,P16>=5),"ĐẠT","KĐẠT")) -> ĐẠT
A17: =IF(B17="","",SUBTOTAL(3,$B$12:B17)) -> 6 | B17: 15000386 | C17: =IF(B17="","",IF(ISNA(VLOOKUP($B17,'DANH SÁCH LỚP'!$B$2:$D$695,2,FALSE))=TRUE,"",VLOOKUP($B17,'DANH SÁCH LỚP'!$B$2:$D$695,2,FALSE))) -> Nguyễn Hùng | D17: =IF(C17="","",IF(ISNA(VLOOKUP($B17,'DANH SÁCH LỚP'!$B$2:$D$695,3,FALSE))=TRUE,"",VLOOKUP($B17,'DANH SÁCH LỚP'!$B$2:$D$695,3,FALSE))) -> Dũng | F17: 6 | I17: 7 | J17: 5 | L17: =IF(OR(B17="",$C$6="",$J$6="",$I$120=""),"",IF(ISNUMBER(E17)=TRUE,"",IF((COUNT(F17:K17))=0,0,ROUND((SUM(F17:H17)+2*SUM(I17:K17))/(COUNT(F17:H17)+2*COUNT(I17:K17)),1)))) -> 6 | M17: 4 | N17: =IF(OR(B17="",$C$6="",$J$6="",$I$120=""),"",IF(OR(L17<3,M17/($J$6*15)>0.2),"Cấm thi","")) | O17: 4 | P17: =IF(OR(B17="",$C$6="",$J$6="",$I$120=""),"",IF(ISNUMBER(E17)=TRUE,E17,ROUND((L17*0.4+O17*0.6),1))) -> 4.8 | Q17: =IF(B17="","",IF(P17="","KXL",IF(P17<4,"Kém",IF(P17<5,"Yếu",IF(P17<6,"TB",IF(P17<7,"TBK",IF(P17<8,"Khá",IF(P17<9,"Giỏi","XS")))))))) -> Yếu | R17: =IF(OR(B17="",$C$6="",$J$6="",$I$120=""),"",IF(AND(O17>=3,P17>=5),"ĐẠT","KĐẠT")) -> KĐẠT
A18: =IF(B18="","",SUBTOTAL(3,$B$12:B18)) -> 7 | B18: 15001615 | C18: =IF(B18="","",IF(ISNA(VLOOKUP($B18,'DANH SÁCH LỚP'!$B$2:$D$695,2,FALSE))=TRUE,"",VLOOKUP($B18,'DANH SÁCH LỚP'!$B$2:$D$695,2,FALSE))) -> Trần Phi | D18: =IF(C18="","",IF(ISNA(VLOOKUP($B18,'DANH SÁCH LỚP'!$B$2:$D$695,3,FALSE))=TRUE,"",VLOOKUP($B18,'DANH SÁCH LỚP'!$B$2:$D$695,3,FALSE))) -> Hải | F18: 5 | I18: 6 | J18: 7 | L18: =IF(OR(B18="",$C$6="",$J$6="",$I$120=""),"",IF(ISNUMBER(E18)=TRUE,"",IF((COUNT(F18:K18))=0,0,ROUND((SUM(F18:H18)+2*SUM(I18:K18))/(COUNT(F18:H18)+2*COUNT(I18:K18)),1)))) -> 6.2 | M18: 12 | N18: =IF(OR(B18="",$C$6="",$J$6="",$I$120=""),"",IF(OR(L18<3,M18/($J$6*15)>0.2),"Cấm thi","")) | O18: 0 | P18: =IF(OR(B18="",$C$6="",$J$6="",$I$120=""),"",IF(ISNUMBER(E18)=TRUE,E18,ROUND((L18*0.4+O18*0.6),1))) -> 2.5 | Q18: =IF(B18="","",IF(P18="","KXL",IF(P18<4,"Kém",IF(P18<5,"Yếu",IF(P18<6,"TB",IF(P18<7,"TBK",IF(P18<8,"Khá",IF(P18<9,"Giỏi","XS")))))))) -> Kém | R18: =IF(OR(B18="",$C$6="",$J$6="",$I$120=""),"",IF(AND(O18>=3,P18>=5),"ĐẠT","KĐẠT")) -> KĐẠT
A19: =IF(B19="","",SUBTOTAL(3,$B$12:B19)) -> 8 | B19: 15000313 | C19: =IF(B19="","",IF(ISNA(VLOOKUP($B19,'DANH SÁCH LỚP'!$B$2:$D$695,2,FALSE))=TRUE,"",VLOOKUP($B19,'DANH SÁCH LỚP'!$B$2:$D$695,2,FALSE))) -> Phạm Thanh | D19: =IF(C19="","",IF(ISNA(VLOOKUP($B19,'DANH SÁCH LỚP'!$B$2:$D$695,3,FALSE))=TRUE,"",VLOOKUP($B19,'DANH SÁCH LỚP'!$B$2:$D$695,3,FALSE))) -> Hiền | F19: 4 | I19: 6 | J19: 5 | L19: =IF(OR(B19="",$C$6="",$J$6="",$I$120=""),"",IF(ISNUMBER(E19)=TRUE,"",IF((COUNT(F19:K19))=0,0,ROUND((SUM(F19:H19)+2*SUM(I19:K19))/(COUNT(F19:H19)+2*COUNT(I19:K19)),1)))) -> 5.2 | M19: 8 | N19: =IF(OR(B19="",$C$6="",$J$6="",$I$120=""),"",IF(OR(L19<3,M19/($J$6*15)>0.2),"Cấm thi","")) | O19: 0 | P19: =IF(OR(B19="",$C$6="",$J$6="",$I$120=""),"",IF(ISNUMBER(E19)=TRUE,E19,ROUND((L19*0.4+O19*0.6),1))) -> 2.1 | Q19: =IF(B19="","",IF(P19="","KXL",IF(P19<4,"Kém",IF(P19<5,"Yếu",IF(P19<6,"TB",IF(P19<7,"TBK",IF(P19<8,"Khá",IF(P19<9,"Giỏi","XS")))))))) -> Kém | R19: =IF(OR(B19="",$C$6="",$J$6="",$I$120=""),"",IF(AND(O19>=3,P19>=5),"ĐẠT","KĐẠT")) -> KĐẠT
A20: =IF(B20="","",SUBTOTAL(3,$B$12:B20)) -> 9 | B20: 15002007 | C20: =IF(B20="","",IF(ISNA(VLOOKUP($B20,'DANH SÁCH LỚP'!$B$2:$D$695,2,FALSE))=TRUE,"",VLOOKUP($B20,'DANH SÁCH LỚP'!$B$2:$D$695,2,FALSE))) -> Nguyễn Trung | D20: =IF(C20="","",IF(ISNA(VLOOKUP($B20,'DANH SÁCH LỚP'!$B$2:$D$695,3,FALSE))=TRUE,"",VLOOKUP($B20,'DANH SÁCH LỚP'!$B$2:$D$695,3,FALSE))) -> Hiếu | F20: 7 | I20: 7 | J20: 5 | L20: =IF(OR(B20="",$C$6="",$J$6="",$I$120=""),"",IF(ISNUMBER(E20)=TRUE,"",IF((COUNT(F20:K20))=0,0,ROUND((SUM(F20:H20)+2*SUM(I20:K20))/(COUNT(F20:H20)+2*COUNT(I20:K20)),1)))) -> 6.2 | M20: 8 | N20: =IF(OR(B20="",$C$6="",$J$6="",$I$120=""),"",IF(OR(L20<3,M20/($J$6*15)>0.2),"Cấm thi","")) | O20: 5.5 | P20: =IF(OR(B20="",$C$6="",$J$6="",$I$120=""),"",IF(ISNUMBER(E20)=TRUE,E20,ROUND((L20*0.4+O20*0.6),1))) -> 5.8 | Q20: =IF(B20="","",IF(P20="","KXL",IF(P20<4,"Kém",IF(P20<5,"Yếu",IF(P20<6,"TB",IF(P20<7,"TBK",IF(P20<8,"Khá",IF(P20<9,"Giỏi","XS")))))))) -> TB | R20: =IF(OR(B20="",$C$6="",$J$6="",$I$120=""),"",IF(AND(O20>=3,P20>=5),"ĐẠT","KĐẠT")) -> ĐẠT
A21: =IF(B21="","",SUBTOTAL(3,$B$12:B21)) -> 10 | B21: 15000640 | C21: =IF(B21="","",IF(ISNA(VLOOKUP($B21,'DANH SÁCH LỚP'!$B$2:$D$695,2,FALSE))=TRUE,"",VLOOKUP($B21,'DANH SÁCH LỚP'!$B$2:$D$695,2,FALSE))) -> Nguyễn Văn | D21: =IF(C21="","",IF(ISNA(VLOOKUP($B21,'DANH SÁCH LỚP'!$B$2:$D$695,3,FALSE))=TRUE,"",VLOOKUP($B21,'DANH SÁCH LỚP'!$B$2:$D$695,3,FALSE))) -> Hóa | F21: 8 | I21: 10 | J21: 7 | L21: =IF(OR(B21="",$C$6="",$J$6="",$I$120=""),"",IF(ISNUMBER(E21)=TRUE,"",IF((COUNT(F21:K21))=0,0,ROUND((SUM(F21:H21)+2*SUM(I21:K21))/(COUNT(F21:H21)+2*COUNT(I21:K21)),1)))) -> 8.4 | M21: 0 | N21: =IF(OR(B21="",$C$6="",$J$6="",$I$120=""),"",IF(OR(L21<3,M21/($J$6*15)>0.2),"Cấm thi","")) | O21: 5.8 | P21: =IF(OR(B21="",$C$6="",$J$6="",$I$120=""),"",IF(ISNUMBER(E21)=TRUE,E21,ROUND((L21*0.4+O21*0.6),1))) -> 6.8 | Q21: =IF(B21="","",IF(P21="","KXL",IF(P21<4,"Kém",IF(P21<5,"Yếu",IF(P21<6,"TB",IF(P21<7,"TBK",IF(P21<8,"Khá",IF(P21<9,"Giỏi","XS")))))))) -> TBK | R21: =IF(OR(B21="",$C$6="",$J$6="",$I$120=""),"",IF(AND(O21>=3,P21>=5),"ĐẠT","KĐẠT")) -> ĐẠT
A22: =IF(B22="","",SUBTOTAL(3,$B$12:B22)) -> 11 | B22: 15000288 | C22: =IF(B22="","",IF(ISNA(VLOOKUP($B22,'DANH SÁCH LỚP'!$B$2:$D$695,2,FALSE))=TRUE,"",VLOOKUP($B22,'DANH SÁCH LỚP'!$B$2:$D$695,2,FALSE))) -> Nguyễn Đỗ Nhật | D22: =IF(C22="","",IF(ISNA(VLOOKUP($B22,'DANH SÁCH LỚP'!$B$2:$D$695,3,FALSE))=TRUE,"",VLOOKUP($B22,'DANH SÁCH LỚP'!$B$2:$D$695,3,FALSE))) -> Huy | F22: 4 | I22: 7 | J22: 6 | L22: =IF(OR(B22="",$C$6="",$J$6="",$I$120=""),"",IF(ISNUMBER(E22)=TRUE,"",IF((COUNT(F22:K22))=0,0,ROUND((SUM(F22:H22)+2*SUM(I22:K22))/(COUNT(F22:H22)+2*COUNT(I22:K22)),1)))) -> 6 | M22: 2 | N22: =IF(OR(B22="",$C$6="",$J$6="",$I$120=""),"",IF(OR(L22<3,M22/($J$6*15)>0.2),"Cấm thi","")) | O22: 6.5 | P22: =IF(OR(B22="",$C$6="",$J$6="",$I$120=""),"",IF(ISNUMBER(E22)=TRUE,E22,ROUND((L22*0.4+O22*0.6),1))) -> 6.3 | Q22: =IF(B22="","",IF(P22="","KXL",IF(P22<4,"Kém",IF(P22<5,"Yếu",IF(P22<6,"TB",IF(P22<7,"TBK",IF(P22<8,"Khá",IF(P22<9,"Giỏi","XS")))))))) -> TBK | R22: =IF(OR(B22="",$C$6="",$J$6="",$I$120=""),"",IF(AND(O22>=3,P22>=5),"ĐẠT","KĐẠT")) -> ĐẠT
A23: =IF(B23="","",SUBTOTAL(3,$B$12:B23)) -> 12 | B23: 15000189 | C23: =IF(B23="","",IF(ISNA(VLOOKUP($B23,'DANH SÁCH LỚP'!$B$2:$D$695,2,FALSE))=TRUE,"",VLOOKUP($B23,'DANH SÁCH LỚP'!$B$2:$D$695,2,FALSE))) -> Nguyễn Quang | D23: =IF(C23="","",IF(ISNA(VLOOKUP($B23,'DANH SÁCH LỚP'!$B$2:$D$695,3,FALSE))=TRUE,"",VLOOKUP($B23,'DANH SÁCH LỚP'!$B$2:$D$695,3,FALSE))) -> Huy | F23: 0 | I23: 0 | J23: 0 | L23: =IF(OR(B23="",$C$6="",$J$6="",$I$120=""),"",IF(ISNUMBER(E23)=TRUE,"",IF((COUNT(F23:K23))=0,0,ROUND((SUM(F23:H23)+2*SUM(I23:K23))/(COUNT(F23:H23)+2*COUNT(I23:K23)),1)))) -> 0 | M23: 58 | N23: =IF(OR(B23="",$C$6="",$J$6="",$I$120=""),"",IF(OR(L23<3,M23/($J$6*15)>0.2),"Cấm thi","")) -> Cấm thi | O23: 0 | P23: =IF(OR(B23="",$C$6="",$J$6="",$I$120=""),"",IF(ISNUMBER(E23)=TRUE,E23,ROUND((L23*0.4+O23*0.6),1))) -> 0 | Q23: =IF(B23="","",IF(P23="","KXL",IF(P23<4,"Kém",IF(P23<5,"Yếu",IF(P23<6,"TB",IF(P23<7,"TBK",IF(P23<8,"Khá",IF(P23<9,"Giỏi","XS")))))))) -> Kém | R23: =IF(OR(B23="",$C$6="",$J$6="",$I$120=""),"",IF(AND(O23>=3,P23>=5),"ĐẠT","KĐẠT")) -> KĐẠT
... A47: =IF(B47="","",SUBTOTAL(3,$B$12:B47)) -> 36 | B47: 15003214 | C47: =IF(B47="","",IF(ISNA(VLOOKUP($B47,'DANH SÁCH LỚP'!$B$2:$D$695,2,FALSE))=TRUE,"",VLOOKUP($B47,'DANH SÁCH LỚP'!$B$2:$D$695,2,FALSE))) -> Trần Thiên | D47: =IF(C47="","",IF(ISNA(VLOOKUP($B47,'DANH SÁCH LỚP'!$B$2:$D$695,3,FALSE))=TRUE,"",VLOOKUP($B47,'DANH SÁCH LỚP'!$B$2:$D$695,3,FALSE))) -> Xinh | F47: 5 | I47: 0 | J47: 0 | L47: =IF(OR(B47="",$C$6="",$J$6="",$I$120=""),"",IF(ISNUMBER(E47)=TRUE,"",IF((COUNT(F47:K47))=0,0,ROUND((SUM(F47:H47)+2*SUM(I47:K47))/(COUNT(F47:H47)+2*COUNT(I47:K47)),1)))) -> 1 | M47: 46 | N47: =IF(OR(B47="",$C$6="",$J$6="",$I$120=""),"",IF(OR(L47<3,M47/($J$6*15)>0.2),"Cấm thi","")) -> Cấm thi | O47: 0 | P47: =IF(OR(B47="",$C$6="",$J$6="",$I$120=""),"",IF(ISNUMBER(E47)=TRUE,E47,ROUND((L47*0.4+O47*0.6),1))) -> 0.4 | Q47: =IF(B47="","",IF(P47="","KXL",IF(P47<4,"Kém",IF(P47<5,"Yếu",IF(P47<6,"TB",IF(P47<7,"TBK",IF(P47<8,"Khá",IF(P47<9,"Giỏi","XS")))))))) -> Kém | R47: =IF(OR(B47="",$C$6="",$J$6="",$I$120=""),"",IF(AND(O47>=3,P47>=5),"ĐẠT","KĐẠT")) -> KĐẠT
A48: =IF(B48="","",SUBTOTAL(3,$B$12:B48)) | C48: =IF(B48="","",IF(ISNA(VLOOKUP($B48,'DANH SÁCH LỚP'!$B$2:$D$695,2,FALSE))=TRUE,"",VLOOKUP($B48,'DANH SÁCH LỚP'!$B$2:$D$695,2,FALSE))) | D48: =IF(C48="","",IF(ISNA(VLOOKUP($B48,'DANH SÁCH LỚP'!$B$2:$D$695,3,FALSE))=TRUE,"",VLOOKUP($B48,'DANH SÁCH LỚP'!$B$2:$D$695,3,FALSE))) | L48: =IF(OR(B48="",$C$6="",$J$6="",$I$120=""),"",IF(ISNUMBER(E48)=TRUE,"",IF((COUNT(F48:K48))=0,0,ROUND((SUM(F48:H48)+2*SUM(I48:K48))/(COUNT(F48:H48)+2*COUNT(I48:K48)),1)))) | N48: =IF(OR(B48="",$C$6="",$J$6="",$I$120=""),"",IF(OR(L48<3,M48/($J$6*15)>0.2),"Cấm thi","")) | P48: =IF(OR(B48="",$C$6="",$J$6="",$I$120=""),"",IF(ISNUMBER(E48)=TRUE,E48,ROUND((L48*0.4+O48*0.6),1))) | Q48: =IF(B48="","",IF(P48="","KXL",IF(P48<4,"Kém",IF(P48<5,"Yếu",IF(P48<6,"TB",IF(P48<7,"TBK",IF(P48<8,"Khá",IF(P48<9,"Giỏi","XS")))))))) | R48: =IF(OR(B48="",$C$6="",$J$6="",$I$120=""),"",IF(AND(O48>=3,P48>=5),"ĐẠT","KĐẠT"))
A49: =IF(B49="","",SUBTOTAL(3,$B$12:B49)) | C49: =IF(B49="","",IF(ISNA(VLOOKUP($B49,'DANH SÁCH LỚP'!$B$2:$D$695,2,FALSE))=TRUE,"",VLOOKUP($B49,'DANH SÁCH LỚP'!$B$2:$D$695,2,FALSE))) | D49: =IF(C49="","",IF(ISNA(VLOOKUP($B49,'DANH SÁCH LỚP'!$B$2:$D$695,3,FALSE))=TRUE,"",VLOOKUP($B49,'DANH SÁCH LỚP'!$B$2:$D$695,3,FALSE))) | L49: =IF(OR(B49="",$C$6="",$J$6="",$I$120=""),"",IF(ISNUMBER(E49)=TRUE,"",IF((COUNT(F49:K49))=0,0,ROUND((SUM(F49:H49)+2*SUM(I49:K49))/(COUNT(F49:H49)+2*COUNT(I49:K49)),1)))) | N49: =IF(OR(B49="",$C$6="",$J$6="",$I$120=""),"",IF(OR(L49<3,M49/($J$6*15)>0.2),"Cấm thi","")) | P49: =IF(OR(B49="",$C$6="",$J$6="",$I$120=""),"",IF(ISNUMBER(E49)=TRUE,E49,ROUND((L49*0.4+O49*0.6),1))) | Q49: =IF(B49="","",IF(P49="","KXL",IF(P49<4,"Kém",IF(P49<5,"Yếu",IF(P49<6,"TB",IF(P49<7,"TBK",IF(P49<8,"Khá",IF(P49<9,"Giỏi","XS")))))))) | R49: =IF(OR(B49="",$C$6="",$J$6="",$I$120=""),"",IF(AND(O49>=3,P49>=5),"ĐẠT","KĐẠT"))
A50: =IF(B50="","",SUBTOTAL(3,$B$12:B50)) | C50: =IF(B50="","",IF(ISNA(VLOOKUP($B50,'DANH SÁCH LỚP'!$B$2:$D$695,2,FALSE))=TRUE,"",VLOOKUP($B50,'DANH SÁCH LỚP'!$B$2:$D$695,2,FALSE))) | D50: =IF(C50="","",IF(ISNA(VLOOKUP($B50,'DANH SÁCH LỚP'!$B$2:$D$695,3,FALSE))=TRUE,"",VLOOKUP($B50,'DANH SÁCH LỚP'!$B$2:$D$695,3,FALSE))) | L50: =IF(OR(B50="",$C$6="",$J$6="",$I$120=""),"",IF(ISNUMBER(E50)=TRUE,"",IF((COUNT(F50:K50))=0,0,ROUND((SUM(F50:H50)+2*SUM(I50:K50))/(COUNT(F50:H50)+2*COUNT(I50:K50)),1)))) | N50: =IF(OR(B50="",$C$6="",$J$6="",$I$120=""),"",IF(OR(L50<3,M50/($J$6*15)>0.2),"Cấm thi","")) | P50: =IF(OR(B50="",$C$6="",$J$6="",$I$120=""),"",IF(ISNUMBER(E50)=TRUE,E50,ROUND((L50*0.4+O50*0.6),1))) | Q50: =IF(B50="","",IF(P50="","KXL",IF(P50<4,"Kém",IF(P50<5,"Yếu",IF(P50<6,"TB",IF(P50<7,"TBK",IF(P50<8,"Khá",IF(P50<9,"Giỏi","XS")))))))) | R50: =IF(OR(B50="",$C$6="",$J$6="",$I$120=""),"",IF(AND(O50>=3,P50>=5),"ĐẠT","KĐẠT"))
A51: =IF(B51="","",SUBTOTAL(3,$B$12:B51)) | C51: =IF(B51="","",IF(ISNA(VLOOKUP($B51,'DANH SÁCH LỚP'!$B$2:$D$695,2,FALSE))=TRUE,"",VLOOKUP($B51,'DANH SÁCH LỚP'!$B$2:$D$695,2,FALSE))) | D51: =IF(C51="","",IF(ISNA(VLOOKUP($B51,'DANH SÁCH LỚP'!$B$2:$D$695,3,FALSE))=TRUE,"",VLOOKUP($B51,'DANH SÁCH LỚP'!$B$2:$D$695,3,FALSE))) | L51: =IF(OR(B51="",$C$6="",$J$6="",$I$120=""),"",IF(ISNUMBER(E51)=TRUE,"",IF((COUNT(F51:K51))=0,0,ROUND((SUM(F51:H51)+2*SUM(I51:K51))/(COUNT(F51:H51)+2*COUNT(I51:K51)),1)))) | N51: =IF(OR(B51="",$C$6="",$J$6="",$I$120=""),"",IF(OR(L51<3,M51/($J$6*15)>0.2),"Cấm thi","")) | P51: =IF(OR(B51="",$C$6="",$J$6="",$I$120=""),"",IF(ISNUMBER(E51)=TRUE,E51,ROUND((L51*0.4+O51*0.6),1))) | Q51: =IF(B51="","",IF(P51="","KXL",IF(P51<4,"Kém",IF(P51<5,"Yếu",IF(P51<6,"TB",IF(P51<7,"TBK",IF(P51<8,"Khá",IF(P51<9,"Giỏi","XS")))))))) | R51: =IF(OR(B51="",$C$6="",$J$6="",$I$120=""),"",IF(AND(O51>=3,P51>=5),"ĐẠT","KĐẠT"))
A52: =IF(B52="","",SUBTOTAL(3,$B$12:B52)) | C52: =IF(B52="","",IF(ISNA(VLOOKUP($B52,'DANH SÁCH LỚP'!$B$2:$D$695,2,FALSE))=TRUE,"",VLOOKUP($B52,'DANH SÁCH LỚP'!$B$2:$D$695,2,FALSE))) | D52: =IF(C52="","",IF(ISNA(VLOOKUP($B52,'DANH SÁCH LỚP'!$B$2:$D$695,3,FALSE))=TRUE,"",VLOOKUP($B52,'DANH SÁCH LỚP'!$B$2:$D$695,3,FALSE))) | L52: =IF(OR(B52="",$C$6="",$J$6="",$I$120=""),"",IF(ISNUMBER(E52)=TRUE,"",IF((COUNT(F52:K52))=0,0,ROUND((SUM(F52:H52)+2*SUM(I52:K52))/(COUNT(F52:H52)+2*COUNT(I52:K52)),1)))) | N52: =IF(OR(B52="",$C$6="",$J$6="",$I$120=""),"",IF(OR(L52<3,M52/($J$6*15)>0.2),"Cấm thi","")) | P52: =IF(OR(B52="",$C$6="",$J$6="",$I$120=""),"",IF(ISNUMBER(E52)=TRUE,E52,ROUND((L52*0.4+O52*0.6),1))) | Q52: =IF(B52="","",IF(P52="","KXL",IF(P52<4,"Kém",IF(P52<5,"Yếu",IF(P52<6,"TB",IF(P52<7,"TBK",IF(P52<8,"Khá",IF(P52<9,"Giỏi","XS")))))))) | R52: =IF(OR(B52="",$C$6="",$J$6="",$I$120=""),"",IF(AND(O52>=3,P52>=5),"ĐẠT","KĐẠT"))
A53: =IF(B53="","",SUBTOTAL(3,$B$12:B53)) | C53: =IF(B53="","",IF(ISNA(VLOOKUP($B53,'DANH SÁCH LỚP'!$B$2:$D$695,2,FALSE))=TRUE,"",VLOOKUP($B53,'DANH SÁCH LỚP'!$B$2:$D$695,2,FALSE))) | D53: =IF(C53="","",IF(ISNA(VLOOKUP($B53,'DANH SÁCH LỚP'!$B$2:$D$695,3,FALSE))=TRUE,"",VLOOKUP($B53,'DANH SÁCH LỚP'!$B$2:$D$695,3,FALSE))) | L53: =IF(OR(B53="",$C$6="",$J$6="",$I$120=""),"",IF(ISNUMBER(E53)=TRUE,"",IF((COUNT(F53:K53))=0,0,ROUND((SUM(F53:H53)+2*SUM(I53:K53))/(COUNT(F53:H53)+2*COUNT(I53:K53)),1)))) | N53: =IF(OR(B53="",$C$6="",$J$6="",$I$120=""),"",IF(OR(L53<3,M53/($J$6*15)>0.2),"Cấm thi","")) | P53: =IF(OR(B53="",$C$6="",$J$6="",$I$120=""),"",IF(ISNUMBER(E53)=TRUE,E53,ROUND((L53*0.4+O53*0.6),1))) | Q53: =IF(B53="","",IF(P53="","KXL",IF(P53<4,"Kém",IF(P53<5,"Yếu",IF(P53<6,"TB",IF(P53<7,"TBK",IF(P53<8,"Khá",IF(P53<9,"Giỏi","XS")))))))) | R53: =IF(OR(B53="",$C$6="",$J$6="",$I$120=""),"",IF(AND(O53>=3,P53>=5),"ĐẠT","KĐẠT"))
A54: =IF(B54="","",SUBTOTAL(3,$B$12:B54)) | C54: =IF(B54="","",IF(ISNA(VLOOKUP($B54,'DANH SÁCH LỚP'!$B$2:$D$695,2,FALSE))=TRUE,"",VLOOKUP($B54,'DANH SÁCH LỚP'!$B$2:$D$695,2,FALSE))) | D54: =IF(C54="","",IF(ISNA(VLOOKUP($B54,'DANH SÁCH LỚP'!$B$2:$D$695,3,FALSE))=TRUE,"",VLOOKUP($B54,'DANH SÁCH LỚP'!$B$2:$D$695,3,FALSE))) | L54: =IF(OR(B54="",$C$6="",$J$6="",$I$120=""),"",IF(ISNUMBER(E54)=TRUE,"",IF((COUNT(F54:K54))=0,0,ROUND((SUM(F54:H54)+2*SUM(I54:K54))/(COUNT(F54:H54)+2*COUNT(I54:K54)),1)))) | N54: =IF(OR(B54="",$C$6="",$J$6="",$I$120=""),"",IF(OR(L54<3,M54/($J$6*15)>0.2),"Cấm thi","")) | P54: =IF(OR(B54="",$C$6="",$J$6="",$I$120=""),"",IF(ISNUMBER(E54)=TRUE,E54,ROUND((L54*0.4+O54*0.6),1))) | Q54: =IF(B54="","",IF(P54="","KXL",IF(P54<4,"Kém",IF(P54<5,"Yếu",IF(P54<6,"TB",IF(P54<7,"TBK",IF(P54<8,"Khá",IF(P54<9,"Giỏi","XS")))))))) | R54: =IF(OR(B54="",$C$6="",$J$6="",$I$120=""),"",IF(AND(O54>=3,P54>=5),"ĐẠT","KĐẠT"))
A55: =IF(B55="","",SUBTOTAL(3,$B$12:B55)) | C55: =IF(B55="","",IF(ISNA(VLOOKUP($B55,'DANH SÁCH LỚP'!$B$2:$D$695,2,FALSE))=TRUE,"",VLOOKUP($B55,'DANH SÁCH LỚP'!$B$2:$D$695,2,FALSE))) | D55: =IF(C55="","",IF(ISNA(VLOOKUP($B55,'DANH SÁCH LỚP'!$B$2:$D$695,3,FALSE))=TRUE,"",VLOOKUP($B55,'DANH SÁCH LỚP'!$B$2:$D$695,3,FALSE))) | L55: =IF(OR(B55="",$C$6="",$J$6="",$I$120=""),"",IF(ISNUMBER(E55)=TRUE,"",IF((COUNT(F55:K55))=0,0,ROUND((SUM(F55:H55)+2*SUM(I55:K55))/(COUNT(F55:H55)+2*COUNT(I55:K55)),1)))) | N55: =IF(OR(B55="",$C$6="",$J$6="",$I$120=""),"",IF(OR(L55<3,M55/($J$6*15)>0.2),"Cấm thi","")) | P55: =IF(OR(B55="",$C$6="",$J$6="",$I$120=""),"",IF(ISNUMBER(E55)=TRUE,E55,ROUND((L55*0.4+O55*0.6),1))) | Q55: =IF(B55="","",IF(P55="","KXL",IF(P55<4,"Kém",IF(P55<5,"Yếu",IF(P55<6,"TB",IF(P55<7,"TBK",IF(P55<8,"Khá",IF(P55<9,"Giỏi","XS")))))))) | R55: =IF(OR(B55="",$C$6="",$J$6="",$I$120=""),"",IF(AND(O55>=3,P55>=5),"ĐẠT","KĐẠT"))
A56: =IF(B56="","",SUBTOTAL(3,$B$12:B56)) | C56: =IF(B56="","",IF(ISNA(VLOOKUP($B56,'DANH SÁCH LỚP'!$B$2:$D$695,2,FALSE))=TRUE,"",VLOOKUP($B56,'DANH SÁCH LỚP'!$B$2:$D$695,2,FALSE))) | D56: =IF(C56="","",IF(ISNA(VLOOKUP($B56,'DANH SÁCH LỚP'!$B$2:$D$695,3,FALSE))=TRUE,"",VLOOKUP($B56,'DANH SÁCH LỚP'!$B$2:$D$695,3,FALSE))) | L56: =IF(OR(B56="",$C$6="",$J$6="",$I$120=""),"",IF(ISNUMBER(E56)=TRUE,"",IF((COUNT(F56:K56))=0,0,ROUND((SUM(F56:H56)+2*SUM(I56:K56))/(COUNT(F56:H56)+2*COUNT(I56:K56)),1)))) | N56: =IF(OR(B56="",$C$6="",$J$6="",$I$120=""),"",IF(OR(L56<3,M56/($J$6*15)>0.2),"Cấm thi","")) | P56: =IF(OR(B56="",$C$6="",$J$6="",$I$120=""),"",IF(ISNUMBER(E56)=TRUE,E56,ROUND((L56*0.4+O56*0.6),1))) | Q56: =IF(B56="","",IF(P56="","KXL",IF(P56<4,"Kém",IF(P56<5,"Yếu",IF(P56<6,"TB",IF(P56<7,"TBK",IF(P56<8,"Khá",IF(P56<9,"Giỏi","XS")))))))) | R56: =IF(OR(B56="",$C$6="",$J$6="",$I$120=""),"",IF(AND(O56>=3,P56>=5),"ĐẠT","KĐẠT"))
A57: =IF(B57="","",SUBTOTAL(3,$B$12:B57)) | C57: =IF(B57="","",IF(ISNA(VLOOKUP($B57,'DANH SÁCH LỚP'!$B$2:$D$695,2,FALSE))=TRUE,"",VLOOKUP($B57,'DANH SÁCH LỚP'!$B$2:$D$695,2,FALSE))) | D57: =IF(C57="","",IF(ISNA(VLOOKUP($B57,'DANH SÁCH LỚP'!$B$2:$D$695,3,FALSE))=TRUE,"",VLOOKUP($B57,'DANH SÁCH LỚP'!$B$2:$D$695,3,FALSE))) | L57: =IF(OR(B57="",$C$6="",$J$6="",$I$120=""),"",IF(ISNUMBER(E57)=TRUE,"",IF((COUNT(F57:K57))=0,0,ROUND((SUM(F57:H57)+2*SUM(I57:K57))/(COUNT(F57:H57)+2*COUNT(I57:K57)),1)))) | N57: =IF(OR(B57="",$C$6="",$J$6="",$I$120=""),"",IF(OR(L57<3,M57/($J$6*15)>0.2),"Cấm thi","")) | P57: =IF(OR(B57="",$C$6="",$J$6="",$I$120=""),"",IF(ISNUMBER(E57)=TRUE,E57,ROUND((L57*0.4+O57*0.6),1))) | Q57: =IF(B57="","",IF(P57="","KXL",IF(P57<4,"Kém",IF(P57<5,"Yếu",IF(P57<6,"TB",IF(P57<7,"TBK",IF(P57<8,"Khá",IF(P57<9,"Giỏi","XS")))))))) | R57: =IF(OR(B57="",$C$6="",$J$6="",$I$120=""),"",IF(AND(O57>=3,P57>=5),"ĐẠT","KĐẠT"))
A58: =IF(B58="","",SUBTOTAL(3,$B$12:B58)) | C58: =IF(B58="","",IF(ISNA(VLOOKUP($B58,'DANH SÁCH LỚP'!$B$2:$D$695,2,FALSE))=TRUE,"",VLOOKUP($B58,'DANH SÁCH LỚP'!$B$2:$D$695,2,FALSE))) | D58: =IF(C58="","",IF(ISNA(VLOOKUP($B58,'DANH SÁCH LỚP'!$B$2:$D$695,3,FALSE))=TRUE,"",VLOOKUP($B58,'DANH SÁCH LỚP'!$B$2:$D$695,3,FALSE))) | L58: =IF(OR(B58="",$C$6="",$J$6="",$I$120=""),"",IF(ISNUMBER(E58)=TRUE,"",IF((COUNT(F58:K58))=0,0,ROUND((SUM(F58:H58)+2*SUM(I58:K58))/(COUNT(F58:H58)+2*COUNT(I58:K58)),1)))) | N58: =IF(OR(B58="",$C$6="",$J$6="",$I$120=""),"",IF(OR(L58<3,M58/($J$6*15)>0.2),"Cấm thi","")) | P58: =IF(OR(B58="",$C$6="",$J$6="",$I$120=""),"",IF(ISNUMBER(E58)=TRUE,E58,ROUND((L58*0.4+O58*0.6),1))) | Q58: =IF(B58="","",IF(P58="","KXL",IF(P58<4,"Kém",IF(P58<5,"Yếu",IF(P58<6,"TB",IF(P58<7,"TBK",IF(P58<8,"Khá",IF(P58<9,"Giỏi","XS")))))))) | R58: =IF(OR(B58="",$C$6="",$J$6="",$I$120=""),"",IF(AND(O58>=3,P58>=5),"ĐẠT","KĐẠT"))
A59: =IF(B59="","",SUBTOTAL(3,$B$12:B59)) | C59: =IF(B59="","",IF(ISNA(VLOOKUP($B59,'DANH SÁCH LỚP'!$B$2:$D$695,2,FALSE))=TRUE,"",VLOOKUP($B59,'DANH SÁCH LỚP'!$B$2:$D$695,2,FALSE))) | D59: =IF(C59="","",IF(ISNA(VLOOKUP($B59,'DANH SÁCH LỚP'!$B$2:$D$695,3,FALSE))=TRUE,"",VLOOKUP($B59,'DANH SÁCH LỚP'!$B$2:$D$695,3,FALSE))) | L59: =IF(OR(B59="",$C$6="",$J$6="",$I$120=""),"",IF(ISNUMBER(E59)=TRUE,"",IF((COUNT(F59:K59))=0,0,ROUND((SUM(F59:H59)+2*SUM(I59:K59))/(COUNT(F59:H59)+2*COUNT(I59:K59)),1)))) | N59: =IF(OR(B59="",$C$6="",$J$6="",$I$120=""),"",IF(OR(L59<3,M59/($J$6*15)>0.2),"Cấm thi","")) | P59: =IF(OR(B59="",$C$6="",$J$6="",$I$120=""),"",IF(ISNUMBER(E59)=TRUE,E59,ROUND((L59*0.4+O59*0.6),1))) | Q59: =IF(B59="","",IF(P59="","KXL",IF(P59<4,"Kém",IF(P59<5,"Yếu",IF(P59<6,"TB",IF(P59<7,"TBK",IF(P59<8,"Khá",IF(P59<9,"Giỏi","XS")))))))) | R59: =IF(OR(B59="",$C$6="",$J$6="",$I$120=""),"",IF(AND(O59>=3,P59>=5),"ĐẠT","KĐẠT"))
... A101: =IF(B101="","",SUBTOTAL(3,$B$12:B101)) | C101: =IF(B101="","",IF(ISNA(VLOOKUP($B101,'DANH SÁCH LỚP'!$B$2:$D$695,2,FALSE))=TRUE,"",VLOOKUP($B101,'DANH SÁCH LỚP'!$B$2:$D$695,2,FALSE))) | D101: =IF(C101="","",IF(ISNA(VLOOKUP($B101,'DANH SÁCH LỚP'!$B$2:$D$695,3,FALSE))=TRUE,"",VLOOKUP($B101,'DANH SÁCH LỚP'!$B$2:$D$695,3,FALSE))) | L101: =IF(OR(B101="",$C$6="",$J$6="",$I$120=""),"",IF(ISNUMBER(E101)=TRUE,"",IF((COUNT(F101:K101))=0,0,ROUND((SUM(F101:H101)+2*SUM(I101:K101))/(COUNT(F101:H101)+2*COUNT(I101:K101)),1)))) | N101: =IF(OR(B101="",$C$6="",$J$6="",$I$120=""),"",IF(OR(L101<3,M101/($J$6*15)>0.2),"Cấm thi","")) | P101: =IF(OR(B101="",$C$6="",$J$6="",$I$120=""),"",IF(ISNUMBER(E101)=TRUE,E101,ROUND((L101*0.4+O101*0.6),1))) | Q101: =IF(B101="","",IF(P101="","KXL",IF(P101<4,"Kém",IF(P101<5,"Yếu",IF(P101<6,"TB",IF(P101<7,"TBK",IF(P101<8,"Khá",IF(P101<9,"Giỏi","XS")))))))) | R101: =IF(OR(B101="",$C$6="",$J$6="",$I$120=""),"",IF(AND(O101>=3,P101>=5),"ĐẠT","KĐẠT"))
A102: Yêu cầu : Khoa niêm yết cho học sinh, lưu Giáo vụ Khoa và nộp bản chính cho PhòngTS-Đào tạo-GTVL (kèm file này).
B103: ="Tổng danh sách có" -> Tổng danh sách có | F103: =": "&IF(MAX($A$12:$A$101)=1,0,MAX($A$12:$A$101))&" SV" -> : 36 SV
B104: ="Tổng số SV có điểm Xuất sắc từ 9 đ đến 10 đ" -> Tổng số SV có điểm Xuất sắc từ 9 đ đến 10 đ | F104: =": "&COUNTIF($Q$12:$Q$101,"XS")&" SV" -> : 0 SV | H104: ="("&IF(B12="",0,ROUND(COUNTIF($Q$12:$Q$101,"XS")*100/MAX($A$12:$A$101),2))&"%" &")" -> (0%) | J104: ="Tổng số SV có điểm >= 5 đ : "&COUNTIF(P12:P101,">=5")&" SV"&" ("&IF(B12="",0,ROUND(COUNTIF(P12:P101,">=5")*100/MAX($A$12:$A$101),2))&"%" &")" -> Tổng số SV có điểm >= 5 đ : 13 SV (36.11%)
B105: ="Tổng số SV có điểm Giỏi từ 8 đ đến <9 đ" -> Tổng số SV có điểm Giỏi từ 8 đ đến <9 đ | F105: =": "&COUNTIF($Q$12:$Q$101,"Giỏi")&" SV" -> : 1 SV | H105: ="("&IF(B12="",0,ROUND(COUNTIF($Q$12:$Q$101,"Giỏi")*100/MAX($A$12:$A$101),2))&"%" &")" -> (2.78%)
B106: ="Tổng số SV có điểm Khá từ 7 đ đến <8 đ" -> Tổng số SV có điểm Khá từ 7 đ đến <8 đ | F106: =": "&COUNTIF($Q$12:$Q$101,"Khá")&" SV" -> : 1 SV | H106: ="("&IF(B12="",0,ROUND(COUNTIF($Q$12:$Q$101,"Khá")*100/MAX($A$12:$A$101),2))&"%" &")" -> (2.78%)
...

Sheet TH TCCN
A1: UBND THÀNH PHỐ HỒ CHÍ MINH | F1: CỘNG HÒA XÃ HỘI CHỦ NGHĨA VIỆT NAM
A2: TRƯỜNG CAO ĐẲNG KỸ THUẬT LÝ TỰ TRỌNG TP. HỒ CHÍ MINH | F2: Độc lập – Tự do – Hạnh phúc
A3: ‾‾‾‾‾‾‾‾‾‾‾‾‾‾‾‾‾‾‾‾‾‾‾‾‾‾‾‾‾‾‾‾‾‾‾‾‾‾‾‾
A4: BẢNG ĐIỂM HỌC PHẦN THỰC HÀNH
A5: =IF(OR(B12="",C6="",J6="",I119=""),"Số liệu chỉ hiển thị khi thông tin Tên HP, số ĐVHT, Tên Giảng viên đã được điền đầy đủ","") -> Số liệu chỉ hiển thị khi thông tin Tên HP, số ĐVHT, Tên Giảng viên đã được điền đầy đủ
B6: HỌC PHẦN: | H6: Số ĐVHT: | K6: Lớp: | L6: =IF(ISNA(VLOOKUP($B12,'DANH SÁCH LỚP'!$B$2:$F$695,5,FALSE))=TRUE,"",VLOOKUP($B12,'DANH SÁCH LỚP'!$B$2:$F$695,5,FALSE))
C7: HỌC KỲ: | D7: I | F7: NĂM HỌC: 2015 - 2016 | L7: Số tiết vắng tính theo 1 ĐVHT = 30 tiết
A8: TT | B8: MSHS | C8: Họ tên học sinh | E8: Điểm bảo lưu | F8: Điểm kiểm tra | L8: Điểm TB | M8: Số tiết đã vắng | N8: Xét điều kiện dự thi | O8: Điểm Thi KTHP | P8: Điểm HP | Q8: XL lần I | R8: Đánh Giá HP
F10: Thường xuyên Hệ số 1 | I10: Định kỳ Hệ số 2
A12: =IF(B12="","",SUBTOTAL(3,$B$12:B12)) | C12: =IF(B12="","",IF(ISNA(VLOOKUP($B12,'DANH SÁCH LỚP'!$B$2:$D$695,2,FALSE))=TRUE,"",VLOOKUP($B12,'DANH SÁCH LỚP'!$B$2:$D$695,2,FALSE))) | D12: =IF(C12="","",IF(ISNA(VLOOKUP($B12,'DANH SÁCH LỚP'!$B$2:$D$695,3,FALSE))=TRUE,"",VLOOKUP($B12,'DANH SÁCH LỚP'!$B$2:$D$695,3,FALSE))) | L12: =IF(OR(B12="",$C$6="",$J$6="",$I$119=""),"",IF(ISNUMBER(E12)=TRUE,"",IF((COUNT(F12:K12))=0,0,ROUND((SUM(F12:H12)+2*SUM(I12:K12))/(COUNT(F12:H12)+2*COUNT(I12:K12)),1)))) | N12: =IF(OR(B12="",$C$6="",$J$6="",$I$119=""),"",IF(OR(L12<3,M12/($J$6*30)>0.2),"Cấm thi","")) | P12: =IF(OR(B12="",$C$6="",$J$6="",$I$119=""),"",IF(ISNUMBER(E12)=TRUE,E12,ROUND((L12*0.4+O12*0.6),1))) | Q12: =IF(B12="","",IF(P12="","KXL",IF(P12<4,"Kém",IF(P12<5,"Yếu",IF(P12<6,"TB",IF(P12<7,"TBK",IF(P12<8,"Khá",IF(P12<9,"Giỏi","XS")))))))) | R12: =IF(OR(B12="",$C$6="",$J$6="",$I$119=""),"",IF(AND(O12>=3,P12>=5),"ĐẠT","KĐẠT"))
A13: =IF(B13="","",SUBTOTAL(3,$B$12:B13)) | C13: =IF(B13="","",IF(ISNA(VLOOKUP($B13,'DANH SÁCH LỚP'!$B$2:$D$695,2,FALSE))=TRUE,"",VLOOKUP($B13,'DANH SÁCH LỚP'!$B$2:$D$695,2,FALSE))) | D13: =IF(C13="","",IF(ISNA(VLOOKUP($B13,'DANH SÁCH LỚP'!$B$2:$D$695,3,FALSE))=TRUE,"",VLOOKUP($B13,'DANH SÁCH LỚP'!$B$2:$D$695,3,FALSE))) | L13: =IF(OR(B13="",$C$6="",$J$6="",$I$119=""),"",IF(ISNUMBER(E13)=TRUE,"",IF((COUNT(F13:K13))=0,0,ROUND((SUM(F13:H13)+2*SUM(I13:K13))/(COUNT(F13:H13)+2*COUNT(I13:K13)),1)))) | N13: =IF(OR(B13="",$C$6="",$J$6="",$I$119=""),"",IF(OR(L13<3,M13/($J$6*30)>0.2),"Cấm thi","")) | P13: =IF(OR(B13="",$C$6="",$J$6="",$I$119=""),"",IF(ISNUMBER(E13)=TRUE,E13,ROUND((L13*0.4+O13*0.6),1))) | Q13: =IF(B13="","",IF(P13="","KXL",IF(P13<4,"Kém",IF(P13<5,"Yếu",IF(P13<6,"TB",IF(P13<7,"TBK",IF(P13<8,"Khá",IF(P13<9,"Giỏi","XS")))))))) | R13: =IF(OR(B13="",$C$6="",$J$6="",$I$119=""),"",IF(AND(O13>=3,P13>=5),"ĐẠT","KĐẠT"))
A14: =IF(B14="","",SUBTOTAL(3,$B$12:B14)) | C14: =IF(B14="","",IF(ISNA(VLOOKUP($B14,'DANH SÁCH LỚP'!$B$2:$D$695,2,FALSE))=TRUE,"",VLOOKUP($B14,'DANH SÁCH LỚP'!$B$2:$D$695,2,FALSE))) | D14: =IF(C14="","",IF(ISNA(VLOOKUP($B14,'DANH SÁCH LỚP'!$B$2:$D$695,3,FALSE))=TRUE,"",VLOOKUP($B14,'DANH SÁCH LỚP'!$B$2:$D$695,3,FALSE))) | L14: =IF(OR(B14="",$C$6="",$J$6="",$I$119=""),"",IF(ISNUMBER(E14)=TRUE,"",IF((COUNT(F14:K14))=0,0,ROUND((SUM(F14:H14)+2*SUM(I14:K14))/(COUNT(F14:H14)+2*COUNT(I14:K14)),1)))) | N14: =IF(OR(B14="",$C$6="",$J$6="",$I$119=""),"",IF(OR(L14<3,M14/($J$6*30)>0.2),"Cấm thi","")) | P14: =IF(OR(B14="",$C$6="",$J$6="",$I$119=""),"",IF(ISNUMBER(E14)=TRUE,E14,ROUND((L14*0.4+O14*0.6),1))) | Q14: =IF(B14="","",IF(P14="","KXL",IF(P14<4,"Kém",IF(P14<5,"Yếu",IF(P14<6,"TB",IF(P14<7,"TBK",IF(P14<8,"Khá",IF(P14<9,"Giỏi","XS")))))))) | R14: =IF(OR(B14="",$C$6="",$J$6="",$I$119=""),"",IF(AND(O14>=3,P14>=5),"ĐẠT","KĐẠT"))
A15: =IF(B15="","",SUBTOTAL(3,$B$12:B15)) | C15: =IF(B15="","",IF(ISNA(VLOOKUP($B15,'DANH SÁCH LỚP'!$B$2:$D$695,2,FALSE))=TRUE,"",VLOOKUP($B15,'DANH SÁCH LỚP'!$B$2:$D$695,2,FALSE))) | D15: =IF(C15="","",IF(ISNA(VLOOKUP($B15,'DANH SÁCH LỚP'!$B$2:$D$695,3,FALSE))=TRUE,"",VLOOKUP($B15,'DANH SÁCH LỚP'!$B$2:$D$695,3,FALSE))) | L15: =IF(OR(B15="",$C$6="",$J$6="",$I$119=""),"",IF(ISNUMBER(E15)=TRUE,"",IF((COUNT(F15:K15))=0,0,ROUND((SUM(F15:H15)+2*SUM(I15:K15))/(COUNT(F15:H15)+2*COUNT(I15:K15)),1)))) | N15: =IF(OR(B15="",$C$6="",$J$6="",$I$119=""),"",IF(OR(L15<3,M15/($J$6*30)>0.2),"Cấm thi","")) | P15: =IF(OR(B15="",$C$6="",$J$6="",$I$119=""),"",IF(ISNUMBER(E15)=TRUE,E15,ROUND((L15*0.4+O15*0.6),1))) | Q15: =IF(B15="","",IF(P15="","KXL",IF(P15<4,"Kém",IF(P15<5,"Yếu",IF(P15<6,"TB",IF(P15<7,"TBK",IF(P15<8,"Khá",IF(P15<9,"Giỏi","XS")))))))) | R15: =IF(OR(B15="",$C$6="",$J$6="",$I$119=""),"",IF(AND(O15>=3,P15>=5),"ĐẠT","KĐẠT"))
A16: =IF(B16="","",SUBTOTAL(3,$B$12:B16)) | C16: =IF(B16="","",IF(ISNA(VLOOKUP($B16,'DANH SÁCH LỚP'!$B$2:$D$695,2,FALSE))=TRUE,"",VLOOKUP($B16,'DANH SÁCH LỚP'!$B$2:$D$695,2,FALSE))) | D16: =IF(C16="","",IF(ISNA(VLOOKUP($B16,'DANH SÁCH LỚP'!$B$2:$D$695,3,FALSE))=TRUE,"",VLOOKUP($B16,'DANH SÁCH LỚP'!$B$2:$D$695,3,FALSE))) | L16: =IF(OR(B16="",$C$6="",$J$6="",$I$119=""),"",IF(ISNUMBER(E16)=TRUE,"",IF((COUNT(F16:K16))=0,0,ROUND((SUM(F16:H16)+2*SUM(I16:K16))/(COUNT(F16:H16)+2*COUNT(I16:K16)),1)))) | N16: =IF(OR(B16="",$C$6="",$J$6="",$I$119=""),"",IF(OR(L16<3,M16/($J$6*30)>0.2),"Cấm thi","")) | P16: =IF(OR(B16="",$C$6="",$J$6="",$I$119=""),"",IF(ISNUMBER(E16)=TRUE,E16,ROUND((L16*0.4+O16*0.6),1))) | Q16: =IF(B16="","",IF(P16="","KXL",IF(P16<4,"Kém",IF(P16<5,"Yếu",IF(P16<6,"TB",IF(P16<7,"TBK",IF(P16<8,"Khá",IF(P16<9,"Giỏi","XS")))))))) | R16: =IF(OR(B16="",$C$6="",$J$6="",$I$119=""),"",IF(AND(O16>=3,P16>=5),"ĐẠT","KĐẠT"))
A17: =IF(B17="","",SUBTOTAL(3,$B$12:B17)) | C17: =IF(B17="","",IF(ISNA(VLOOKUP($B17,'DANH SÁCH LỚP'!$B$2:$D$695,2,FALSE))=TRUE,"",VLOOKUP($B17,'DANH SÁCH LỚP'!$B$2:$D$695,2,FALSE))) | D17: =IF(C17="","",IF(ISNA(VLOOKUP($B17,'DANH SÁCH LỚP'!$B$2:$D$695,3,FALSE))=TRUE,"",VLOOKUP($B17,'DANH SÁCH LỚP'!$B$2:$D$695,3,FALSE))) | L17: =IF(OR(B17="",$C$6="",$J$6="",$I$119=""),"",IF(ISNUMBER(E17)=TRUE,"",IF((COUNT(F17:K17))=0,0,ROUND((SUM(F17:H17)+2*SUM(I17:K17))/(COUNT(F17:H17)+2*COUNT(I17:K17)),1)))) | N17: =IF(OR(B17="",$C$6="",$J$6="",$I$119=""),"",IF(OR(L17<3,M17/($J$6*30)>0.2),"Cấm thi","")) | P17: =IF(OR(B17="",$C$6="",$J$6="",$I$119=""),"",IF(ISNUMBER(E17)=TRUE,E17,ROUND((L17*0.4+O17*0.6),1))) | Q17: =IF(B17="","",IF(P17="","KXL",IF(P17<4,"Kém",IF(P17<5,"Yếu",IF(P17<6,"TB",IF(P17<7,"TBK",IF(P17<8,"Khá",IF(P17<9,"Giỏi","XS")))))))) | R17: =IF(OR(B17="",$C$6="",$J$6="",$I$119=""),"",IF(AND(O17>=3,P17>=5),"ĐẠT","KĐẠT"))
A18: =IF(B18="","",SUBTOTAL(3,$B$12:B18)) | C18: =IF(B18="","",IF(ISNA(VLOOKUP($B18,'DANH SÁCH LỚP'!$B$2:$D$695,2,FALSE))=TRUE,"",VLOOKUP($B18,'DANH SÁCH LỚP'!$B$2:$D$695,2,FALSE))) | D18: =IF(C18="","",IF(ISNA(VLOOKUP($B18,'DANH SÁCH LỚP'!$B$2:$D$695,3,FALSE))=TRUE,"",VLOOKUP($B18,'DANH SÁCH LỚP'!$B$2:$D$695,3,FALSE))) | L18: =IF(OR(B18="",$C$6="",$J$6="",$I$119=""),"",IF(ISNUMBER(E18)=TRUE,"",IF((COUNT(F18:K18))=0,0,ROUND((SUM(F18:H18)+2*SUM(I18:K18))/(COUNT(F18:H18)+2*COUNT(I18:K18)),1)))) | N18: =IF(OR(B18="",$C$6="",$J$6="",$I$119=""),"",IF(OR(L18<3,M18/($J$6*30)>0.2),"Cấm thi","")) | P18: =IF(OR(B18="",$C$6="",$J$6="",$I$119=""),"",IF(ISNUMBER(E18)=TRUE,E18,ROUND((L18*0.4+O18*0.6),1))) | Q18: =IF(B18="","",IF(P18="","KXL",IF(P18<4,"Kém",IF(P18<5,"Yếu",IF(P18<6,"TB",IF(P18<7,"TBK",IF(P18<8,"Khá",IF(P18<9,"Giỏi","XS")))))))) | R18: =IF(OR(B18="",$C$6="",$J$6="",$I$119=""),"",IF(AND(O18>=3,P18>=5),"ĐẠT","KĐẠT"))
A19: =IF(B19="","",SUBTOTAL(3,$B$12:B19)) | C19: =IF(B19="","",IF(ISNA(VLOOKUP($B19,'DANH SÁCH LỚP'!$B$2:$D$695,2,FALSE))=TRUE,"",VLOOKUP($B19,'DANH SÁCH LỚP'!$B$2:$D$695,2,FALSE))) | D19: =IF(C19="","",IF(ISNA(VLOOKUP($B19,'DANH SÁCH LỚP'!$B$2:$D$695,3,FALSE))=TRUE,"",VLOOKUP($B19,'DANH SÁCH LỚP'!$B$2:$D$695,3,FALSE))) | L19: =IF(OR(B19="",$C$6="",$J$6="",$I$119=""),"",IF(ISNUMBER(E19)=TRUE,"",IF((COUNT(F19:K19))=0,0,ROUND((SUM(F19:H19)+2*SUM(I19:K19))/(COUNT(F19:H19)+2*COUNT(I19:K19)),1)))) | N19: =IF(OR(B19="",$C$6="",$J$6="",$I$119=""),"",IF(OR(L19<3,M19/($J$6*30)>0.2),"Cấm thi","")) | P19: =IF(OR(B19="",$C$6="",$J$6="",$I$119=""),"",IF(ISNUMBER(E19)=TRUE,E19,ROUND((L19*0.4+O19*0.6),1))) | Q19: =IF(B19="","",IF(P19="","KXL",IF(P19<4,"Kém",IF(P19<5,"Yếu",IF(P19<6,"TB",IF(P19<7,"TBK",IF(P19<8,"Khá",IF(P19<9,"Giỏi","XS")))))))) | R19: =IF(OR(B19="",$C$6="",$J$6="",$I$119=""),"",IF(AND(O19>=3,P19>=5),"ĐẠT","KĐẠT"))
A20: =IF(B20="","",SUBTOTAL(3,$B$12:B20)) | C20: =IF(B20="","",IF(ISNA(VLOOKUP($B20,'DANH SÁCH LỚP'!$B$2:$D$695,2,FALSE))=TRUE,"",VLOOKUP($B20,'DANH SÁCH LỚP'!$B$2:$D$695,2,FALSE))) | D20: =IF(C20="","",IF(ISNA(VLOOKUP($B20,'DANH SÁCH LỚP'!$B$2:$D$695,3,FALSE))=TRUE,"",VLOOKUP($B20,'DANH SÁCH LỚP'!$B$2:$D$695,3,FALSE))) | L20: =IF(OR(B20="",$C$6="",$J$6="",$I$119=""),"",IF(ISNUMBER(E20)=TRUE,"",IF((COUNT(F20:K20))=0,0,ROUND((SUM(F20:H20)+2*SUM(I20:K20))/(COUNT(F20:H20)+2*COUNT(I20:K20)),1)))) | N20: =IF(OR(B20="",$C$6="",$J$6="",$I$119=""),"",IF(OR(L20<3,M20/($J$6*30)>0.2),"Cấm thi","")) | P20: =IF(OR(B20="",$C$6="",$J$6="",$I$119=""),"",IF(ISNUMBER(E20)=TRUE,E20,ROUND((L20*0.4+O20*0.6),1))) | Q20: =IF(B20="","",IF(P20="","KXL",IF(P20<4,"Kém",IF(P20<5,"Yếu",IF(P20<6,"TB",IF(P20<7,"TBK",IF(P20<8,"Khá",IF(P20<9,"Giỏi","XS")))))))) | R20: =IF(OR(B20="",$C$6="",$J$6="",$I$119=""),"",IF(AND(O20>=3,P20>=5),"ĐẠT","KĐẠT"))
A21: =IF(B21="","",SUBTOTAL(3,$B$12:B21)) | C21: =IF(B21="","",IF(ISNA(VLOOKUP($B21,'DANH SÁCH LỚP'!$B$2:$D$695,2,FALSE))=TRUE,"",VLOOKUP($B21,'DANH SÁCH LỚP'!$B$2:$D$695,2,FALSE))) | D21: =IF(C21="","",IF(ISNA(VLOOKUP($B21,'DANH SÁCH LỚP'!$B$2:$D$695,3,FALSE))=TRUE,"",VLOOKUP($B21,'DANH SÁCH LỚP'!$B$2:$D$695,3,FALSE))) | L21: =IF(OR(B21="",$C$6="",$J$6="",$I$119=""),"",IF(ISNUMBER(E21)=TRUE,"",IF((COUNT(F21:K21))=0,0,ROUND((SUM(F21:H21)+2*SUM(I21:K21))/(COUNT(F21:H21)+2*COUNT(I21:K21)),1)))) | N21: =IF(OR(B21="",$C$6="",$J$6="",$I$119=""),"",IF(OR(L21<3,M21/($J$6*30)>0.2),"Cấm thi","")) | P21: =IF(OR(B21="",$C$6="",$J$6="",$I$119=""),"",IF(ISNUMBER(E21)=TRUE,E21,ROUND((L21*0.4+O21*0.6),1))) | Q21: =IF(B21="","",IF(P21="","KXL",IF(P21<4,"Kém",IF(P21<5,"Yếu",IF(P21<6,"TB",IF(P21<7,"TBK",IF(P21<8,"Khá",IF(P21<9,"Giỏi","XS")))))))) | R21: =IF(OR(B21="",$C$6="",$J$6="",$I$119=""),"",IF(AND(O21>=3,P21>=5),"ĐẠT","KĐẠT"))
A22: =IF(B22="","",SUBTOTAL(3,$B$12:B22)) | C22: =IF(B22="","",IF(ISNA(VLOOKUP($B22,'DANH SÁCH LỚP'!$B$2:$D$695,2,FALSE))=TRUE,"",VLOOKUP($B22,'DANH SÁCH LỚP'!$B$2:$D$695,2,FALSE))) | D22: =IF(C22="","",IF(ISNA(VLOOKUP($B22,'DANH SÁCH LỚP'!$B$2:$D$695,3,FALSE))=TRUE,"",VLOOKUP($B22,'DANH SÁCH LỚP'!$B$2:$D$695,3,FALSE))) | L22: =IF(OR(B22="",$C$6="",$J$6="",$I$119=""),"",IF(ISNUMBER(E22)=TRUE,"",IF((COUNT(F22:K22))=0,0,ROUND((SUM(F22:H22)+2*SUM(I22:K22))/(COUNT(F22:H22)+2*COUNT(I22:K22)),1)))) | N22: =IF(OR(B22="",$C$6="",$J$6="",$I$119=""),"",IF(OR(L22<3,M22/($J$6*30)>0.2),"Cấm thi","")) | P22: =IF(OR(B22="",$C$6="",$J$6="",$I$119=""),"",IF(ISNUMBER(E22)=TRUE,E22,ROUND((L22*0.4+O22*0.6),1))) | Q22: =IF(B22="","",IF(P22="","KXL",IF(P22<4,"Kém",IF(P22<5,"Yếu",IF(P22<6,"TB",IF(P22<7,"TBK",IF(P22<8,"Khá",IF(P22<9,"Giỏi","XS")))))))) | R22: =IF(OR(B22="",$C$6="",$J$6="",$I$119=""),"",IF(AND(O22>=3,P22>=5),"ĐẠT","KĐẠT"))
A23: =IF(B23="","",SUBTOTAL(3,$B$12:B23)) | C23: =IF(B23="","",IF(ISNA(VLOOKUP($B23,'DANH SÁCH LỚP'!$B$2:$D$695,2,FALSE))=TRUE,"",VLOOKUP($B23,'DANH SÁCH LỚP'!$B$2:$D$695,2,FALSE))) | D23: =IF(C23="","",IF(ISNA(VLOOKUP($B23,'DANH SÁCH LỚP'!$B$2:$D$695,3,FALSE))=TRUE,"",VLOOKUP($B23,'DANH SÁCH LỚP'!$B$2:$D$695,3,FALSE))) | L23: =IF(OR(B23="",$C$6="",$J$6="",$I$119=""),"",IF(ISNUMBER(E23)=TRUE,"",IF((COUNT(F23:K23))=0,0,ROUND((SUM(F23:H23)+2*SUM(I23:K23))/(COUNT(F23:H23)+2*COUNT(I23:K23)),1)))) | N23: =IF(OR(B23="",$C$6="",$J$6="",$I$119=""),"",IF(OR(L23<3,M23/($J$6*30)>0.2),"Cấm thi","")) | P23: =IF(OR(B23="",$C$6="",$J$6="",$I$119=""),"",IF(ISNUMBER(E23)=TRUE,E23,ROUND((L23*0.4+O23*0.6),1))) | Q23: =IF(B23="","",IF(P23="","KXL",IF(P23<4,"Kém",IF(P23<5,"Yếu",IF(P23<6,"TB",IF(P23<7,"TBK",IF(P23<8,"Khá",IF(P23<9,"Giỏi","XS")))))))) | R23: =IF(OR(B23="",$C$6="",$J$6="",$I$119=""),"",IF(AND(O23>=3,P23>=5),"ĐẠT","KĐẠT"))
... A101: =IF(B101="","",SUBTOTAL(3,$B$12:B101)) | C101: =IF(B101="","",IF(ISNA(VLOOKUP($B101,'DANH SÁCH LỚP'!$B$2:$D$695,2,FALSE))=TRUE,"",VLOOKUP($B101,'DANH SÁCH LỚP'!$B$2:$D$695,2,FALSE))) | D101: =IF(C101="","",IF(ISNA(VLOOKUP($B101,'DANH SÁCH LỚP'!$B$2:$D$695,3,FALSE))=TRUE,"",VLOOKUP($B101,'DANH SÁCH LỚP'!$B$2:$D$695,3,FALSE))) | L101: =IF(OR(B101="",$C$6="",$J$6="",$I$119=""),"",IF(ISNUMBER(E101)=TRUE,"",IF((COUNT(F101:K101))=0,0,ROUND((SUM(F101:H101)+2*SUM(I101:K101))/(COUNT(F101:H101)+2*COUNT(I101:K101)),1)))) | N101: =IF(OR(B101="",$C$6="",$J$6="",$I$119=""),"",IF(OR(L101<3,M101/($J$6*30)>0.2),"Cấm thi","")) | P101: =IF(OR(B101="",$C$6="",$J$6="",$I$119=""),"",IF(ISNUMBER(E101)=TRUE,E101,ROUND((L101*0.4+O101*0.6),1))) | Q101: =IF(B101="","",IF(P101="","KXL",IF(P101<4,"Kém",IF(P101<5,"Yếu",IF(P101<6,"TB",IF(P101<7,"TBK",IF(P101<8,"Khá",IF(P101<9,"Giỏi","XS")))))))) | R101: =IF(OR(B101="",$C$6="",$J$6="",$I$119=""),"",IF(AND(O101>=3,P101>=5),"ĐẠT","KĐẠT"))
A102: Yêu cầu : Khoa niêm yết cho học sinh, lưu Giáo vụ Khoa và nộp bản chính cho Phòng TS-Đào tạo-GTVL (kèm file này).
B103: ="Tổng danh sách có" -> Tổng danh sách có | F103: =": "&IF(MAX($A$12:$A$101)=1,0,MAX($A$12:$A$101))&" SV" -> : 0 SV
B104: ="Tổng số SV có điểm Xuất sắc từ 9 đ đến 10 đ" -> Tổng số SV có điểm Xuất sắc từ 9 đ đến 10 đ | F104: =": "&COUNTIF($Q$12:$Q$101,"XS")&" SV" -> : 0 SV | H104: ="("&IF(B12="",0,ROUND(COUNTIF($Q$12:$Q$101,"XS")*100/MAX($A$12:$A$101),2))&"%" &")" -> (0%) | J104: ="Tổng số SV có điểm >= 5 đ : "&COUNTIF(P12:P101,">=5")&" SV"&" ("&IF(B12="",0,ROUND(COUNTIF(P12:P101,">=5")*100/MAX($A$12:$A$101),2))&"%" &")" -> Tổng số SV có điểm >= 5 đ : 0 SV (0%)
B105: ="Tổng số SV có điểm Giỏi từ 8 đ đến <9 đ" -> Tổng số SV có điểm Giỏi từ 8 đ đến <9 đ | F105: =": "&COUNTIF($Q$12:$Q$101,"Giỏi")&" SV" -> : 0 SV | H105: ="("&IF(B12="",0,ROUND(COUNTIF($Q$12:$Q$101,"Giỏi")*100/MAX($A$12:$A$101),2))&"%" &")" -> (0%)
B106: ="Tổng số SV có điểm Khá từ 7 đ đến <8 đ" -> Tổng số SV có điểm Khá từ 7 đ đến <8 đ | F106: =": "&COUNTIF($Q$12:$Q$101,"Khá")&" SV" -> : 0 SV | H106: ="("&IF(B12="",0,ROUND(COUNTIF($Q$12:$Q$101,"Khá")*100/MAX($A$12:$A$101),2))&"%" &")" -> (0%)
B107: ="Tổng số SV có điểm Trung bình khá từ 6 đ đến <7 đ" -> Tổng số SV có điểm Trung bình khá từ 6 đ đến <7 đ | F107: =": "&COUNTIF($Q$12:$Q$101,"TBK")&" SV" -> : 0 SV | H107: ="("&IF(B12="",0,ROUND(COUNTIF($Q$12:$Q$101,"TBK")*100/MAX($A$12:$A$101),2))&"%" &")" -> (0%)
B108: ="Tổng số SV có điểm Trung bình từ 5 đ đến <6 đ" -> Tổng số SV có điểm Trung bình từ 5 đ đến <6 đ | F108: =": "&COUNTIF($Q$12:$Q$101,"TB")&" SV" -> : 0 SV | H108: ="("&IF(B12="",0,ROUND(COUNTIF($Q$12:$Q$101,"TB")*100/MAX($A$12:$A$101),2))&"%" &")" -> (0%) | J108: ="Tổng số SV có điểm < 5 đ : "&COUNTIF(P12:P101,"<5")&" SV"&" ("&IF(B12="",0,ROUND(COUNTIF(P12:P101,"<5")*100/MAX($A$12:$A$101),2))&"%" &")" -> Tổng số SV có điểm < 5 đ : 0 SV (0%)
B109: ="Tổng số SV có điểm Yếu từ 4 đ đến <5 đ" -> Tổng số SV có điểm Yếu từ 4 đ đến <5 đ | F109: =": "&COUNTIF($Q$12:$Q$101,"Yếu")&" SV" -> : 0 SV | H109: ="("&IF(B12="",0,ROUND(COUNTIF($Q$12:$Q$101,"Yếu")*100/MAX($A$12:$A$101),2))&"%"&")" -> (0%)
B110: ="Tổng số SV có điểm Kém dưới 4 đ" -> Tổng số SV có điểm Kém dưới 4 đ | F110: =": "&COUNTIF($Q$12:$Q$101,"Kém")&" SV" -> : 0 SV | H110: ="("&IF(B12="",0,ROUND(COUNTIF($Q$12:$Q$101,"Kém")*100/MAX($A$12:$A$101),2))&"%"&")" -> (0%)
B111: ="Tổng số SV không xếp loại vì chưa đủ điều kiện" -> Tổng số SV không xếp loại vì chưa đủ điều kiện | F111: =": "&COUNTIF($Q$12:$Q$101,"KXL")&" SV" -> : 0 SV | H111: ="("&IF(B12="",0,ROUND(COUNTIF($Q$12:$Q$101,"KXL")*100/MAX($A$12:$A$101),2))&"%"&")" -> (0%)
A113: TRƯỞNG KHOA | D113: TRƯỞNG BỘ MÔN | I113: GIÁO VIÊN GIẢNG DẠY
